BEGIN:VCALENDAR
VERSION:2.0
METHOD:PUBLISH
PRODID:-//Accessible Web Design//My Calendar//http://www.joedolson.com//v//EN';
BEGIN:VEVENT
UID:4-3
LOCATION:
SUMMARY:Booked
DTSTAMP:20230302T000000
ORGANIZER;CN=Gina Dearden:MAILTO:ginadearden@gmail.com
DTSTART:20230302T000000
DTEND:20230302T010000
CATEGORIES:General
URL;VALUE=URI:
DESCRIPTION;ENCODING=QUOTED-PRINTABLE: 
END:VEVENT
END:VCALENDAR